BEGIN:VCALENDAR
VERSION:2.0
PRODID:-//Berks History Center - ECPv6.3.4//NONSGML v1.0//EN
CALSCALE:GREGORIAN
METHOD:PUBLISH
X-WR-CALNAME:Berks History Center
X-ORIGINAL-URL:https://berkshistory.dreamhosters.com
X-WR-CALDESC:Events for Berks History Center
REFRESH-INTERVAL;VALUE=DURATION:PT1H
X-Robots-Tag:noindex
X-PUBLISHED-TTL:PT1H
BEGIN:VTIMEZONE
TZID:UTC
BEGIN:STANDARD
TZOFFSETFROM:+0000
TZOFFSETTO:+0000
TZNAME:UTC
DTSTART:20190101T000000
END:STANDARD
END:VTIMEZONE
BEGIN:VEVENT
DTSTART;TZID=UTC:20191121T190000
DTEND;TZID=UTC:20191121T210000
DTSTAMP:20260421T133847
CREATED:20191101T234805Z
LAST-MODIFIED:20191113T223022Z
UID:4859-1574362800-1574370000@berkshistory.dreamhosters.com
SUMMARY:Reading Red: A Wine Tasting & History Program
DESCRIPTION:Winemaking in Reading goes back almost to the earliest days of European settlement in the area\, beginning in the early 1800s. These wines\, first known as “Reading Red\,” and later associated with the slopes of our nearby mountains\, were highly regarded at the time. The Philadelphia Times once wrote\, for example\, that “some of the best native wine in this country is made from grapes grown right on the side of Mount Penn\, within fifty miles of Philadelphia.”\nTo celebrate the launch of his book\, Lost Mount Penn: Wineries\, Railroads and Resorts of Reading\, author Mike Madaio will be joining us for a special event and wine tasting. After sharing some of the fascinating history of wine in our area–including the colorful characters that made it\, and the events that led to its downfall–Mike will lead us through a tasting of high-quality local wines\, all grown and made within 50 miles of Reading. You don’t want to miss this one of a kind Berks history program! \nMike Madaio’s new book\, Lost Mount Penn: Wineries\, Railroads and Resorts of Reading\, will be available for purchase and signing during this event. \nTickets: $35/person (includes refreshments and a guided tasting of Berks County area wines)\n  \nThe wines will include “a sampling of some of the best dry vinefra (European grape) wines made within 50 miles of the Berks History Center\,” says Wine & Food writer\, Mike Madaio\, “including one semi-sweet red that includes native grapes and tastes somewhat close the common wine of that era.” \n 
URL:https://berkshistory.dreamhosters.com/event/readingred/
LOCATION:Berks History Center\, 940 Centre Avenue\, Reading\, PA\, 19601\, United States
CATEGORIES:Special Events
ORGANIZER;CN="Berks History Center":MAILTO:elise@berkshistory.org
END:VEVENT
BEGIN:VEVENT
DTSTART;TZID=UTC:20191109T100000
DTEND;TZID=UTC:20191109T110000
DTSTAMP:20260421T133847
CREATED:20190813T192602Z
LAST-MODIFIED:20191030T183333Z
UID:4720-1573293600-1573297200@berkshistory.dreamhosters.com
SUMMARY:The Human Side of War: German POW's at the Reading Airbase
DESCRIPTION:Discover the compassionate relationships that developed between German POW’s and a Civilian Contractor during WWII when the Reading Airbase maintained a camp for German prisoners of war\, who served as workers at the airbase and on the farms around Berks County. Presented by Keith Heberling and Roger Rank.\nFrom September\, 1944 to February\, 1946\, the Reading Airbase maintained a camp for German prisoners of war\, who served as workers at the airbase and on the farms around Berks County. Several of the POW’s were assigned to the Paint Shop which was operated by a civilian contractor\, Roy Rank. The working relationship was one of mutual respect which soon developed into close friendships\, one friendship lasting a lifetime. After the Germans left Reading\, the correspondence with Rank continued and their letters\, some very emotional\, describe the uncertainty of the former prisoners as to when and if they would be allowed to go home\, but then\, the utter destruction they found in their home cities and the difficulty in merely surviving in a war-devastated country. However\, in every letter they expressed gratitude for the kind treatment they received while here in Reading and for the continuing letters and frequent “care” packages that they received from their Friend in America. \nThis month’s history presentation will be followed by a special one-time exhibition of a local veteran’s “Combat Paper\,” a special project that involves printing vetertan service photos on paper made from soldier uniforms. \nNo Tickets Required. All Second Saturday programs are “pay at the door.” $5.00 members\, $8.00 non-members. Light Refreshments served at 9:30AM. \n\nOff street parking available at 160 Spring Street\, Reading. \nAll programs subject to change. \nBerks History Center is sponsored by the Pennsylvania Historical & Museum Commission
URL:https://berkshistory.dreamhosters.com/event/the-human-side-of-war-german-pows-at-the-reading-airbase/
LOCATION:Berks History Center\, 940 Centre Avenue\, Reading\, PA\, 19601\, United States
CATEGORIES:Second Saturdays
ORGANIZER;CN="Berks History Center":MAILTO:elise@berkshistory.org
END:VEVENT
BEGIN:VEVENT
DTSTART;TZID=UTC:20191107T163000
DTEND;TZID=UTC:20191107T193000
DTSTAMP:20260421T133847
CREATED:20190813T190740Z
LAST-MODIFIED:20191107T214256Z
UID:4717-1573144200-1573155000@berkshistory.dreamhosters.com
SUMMARY:It’s a Gift! Open House
DESCRIPTION:Shop local \, save\, and support the Berks History Center’s 150th Anniversary during a casual open house at It’s a Gift! Shoppers will receive 20% off their total purchase AND…20% of all purchases will support the Berks History Center.\nEnjoy refreshments while you shop. Please RSVP. Call 610-375-4375.
URL:https://berkshistory.dreamhosters.com/event/its-a-gift-open-house/
LOCATION:It’s A Gift!\, 720 Penn Ave\, West Reading\, PA
CATEGORIES:Special Events
ORGANIZER;CN="Berks History Center":MAILTO:elise@berkshistory.org
END:VEVENT
BEGIN:VEVENT
DTSTART;TZID=UTC:20191103T130000
DTEND;TZID=UTC:20191103T160000
DTSTAMP:20260421T133847
CREATED:20190813T003431Z
LAST-MODIFIED:20191008T193425Z
UID:4710-1572786000-1572796800@berkshistory.dreamhosters.com
SUMMARY:Hike Through History
DESCRIPTION:While this destination lacks a boardwalk\, Wildwood is Reading’s little-known history secret! Explore Reading’s Wildwood on a guided hiking tour led by Blue Mountain Eagle Climbing Club member\, Paul Schumann\, and Reading historian and BHC Trustee\, Corrie Crupi-Zana.\nPre-Payment Required. $5.00 members\, $8.00 non-members. Call 610-375-4375 to register
URL:https://berkshistory.dreamhosters.com/event/hike-through-history-2/
LOCATION:PA
CATEGORIES:Hikes & Walking Tours,Special Events
END:VEVENT
BEGIN:VEVENT
DTSTART;TZID=UTC:20191102T143000
DTEND;TZID=UTC:20191102T160000
DTSTAMP:20260421T133847
CREATED:20190813T002931Z
LAST-MODIFIED:20191022T183615Z
UID:4708-1572705000-1572710400@berkshistory.dreamhosters.com
SUMMARY:Stroll Through History
DESCRIPTION:Visit the longtime residents of Charles Evans Cemetery who were involved with the Schuylkill Navigation System as well as the Philadelphia and Reading Railroad with historian\, Mark Pflum.\nPre-Payment Required. $5.00 members\, $8.00 non-members. \nCall 610-375-4375 to register.
URL:https://berkshistory.dreamhosters.com/event/stroll-through-history-2/
LOCATION:PA
CATEGORIES:Hikes & Walking Tours,Special Events
ORGANIZER;CN="Berks History Center":MAILTO:elise@berkshistory.org
END:VEVENT
BEGIN:VEVENT
DTSTART;TZID=UTC:20191102T090000
DTEND;TZID=UTC:20191102T140000
DTSTAMP:20260421T133847
CREATED:20190813T002505Z
LAST-MODIFIED:20190918T001504Z
UID:4705-1572685200-1572703200@berkshistory.dreamhosters.com
SUMMARY:Cherokee Comb Basket Workshop
DESCRIPTION:Learn to weave a Cherokee-inspired wall-hanging basket using many colored reeds with Education Curator\, Vicky Heffner.\nMaterials and instruction included. Registration Required. $45 members/$55 non-members. Call 610-375-4375 to register.
URL:https://berkshistory.dreamhosters.com/event/cherokee-comb-basket-workshop/
LOCATION:Berks History Center\, 940 Centre Avenue\, Reading\, PA\, 19601\, United States
CATEGORIES:Special Events
END:VEVENT
BEGIN:VEVENT
DTSTART;VALUE=DATE:20191101
DTEND;VALUE=DATE:20191102
DTSTAMP:20260421T133847
CREATED:20190829T231252Z
LAST-MODIFIED:20190829T231448Z
UID:4773-1572566400-1572652799@berkshistory.dreamhosters.com
SUMMARY:A Day in Historic Philadelphia
DESCRIPTION:Party Like It’s 1776 in Historic Philadelphia\nTravel to Philadelphia’s Independence Square\, Carpenters’ Hall\, Museum of the American Revolution with lunch at City Tavern. \nWhen was the last time you visited Philadelphia’s Independence Square? This history-packed day starts with a guided tour of Independence Hall where we will walk in the shoes of Thomas Jefferson and others as they debated and adopted the United States Declaration of Independence and the United States Constitution. Our timed entry guarantees that we’ll avoid the crowds. Afterwards we’ll have a chance to visit the Liberty Bell\, broken but beautiful\, it is one of America’s icons of freedom. \nCarpenter’s Hall\, built in 1724\, is one of Philadelphia’s hidden gems. It showcases the Master Builder’s who constructed most of colonial Philadelphia. After our guided tour we’ll hop across the cobbled stone street to the historic City Tavern and enjoy Chef Staib’s culinary genius with a choice of Fillet of Salmon or Colonial Pot Pie. \nOur tour at the Museum of the American Revolution begins at 2 PM after the school groups depart for the day. Together we’ll explore America from the early stirrings of unrest in Boston to the opening shots of the War for Independence to when the ideas\, events and legacies of revolution formed the democracy of our United States. Showcased in this museum is Washington’s Tent which may or may not have been made in Reading almost 250 years ago. The Museum’s first international loaned exhibit\, Cost of Revolution: The Life and Death of an Irish Soldier\, includes more than 100 works of art\, historical objects\, manuscripts and maps from lenders across the globe. \n$110 Members/$120 Non-Members \nPrice of the trip does not include bus driver tip. Elite Coach is our transportation provider. \nBus departs the Shilling Shopping Center parking lot BEHIND the PA Driver’s License Photo Center at 7:00 am and will return at approximately 7:00 pm. \n\nClick here for more information or to register contact Vicky Heffner\, Education Curator\, at 610.375.4375 or education@berkshistory.org.\n\n 
URL:https://berkshistory.dreamhosters.com/event/historic-philadelphia/
LOCATION:PA
CATEGORIES:Bus Trips
END:VEVENT
BEGIN:VEVENT
DTSTART;TZID=UTC:20191031T180000
DTEND;TZID=UTC:20191031T200000
DTSTAMP:20260421T133847
CREATED:20191001T191403Z
LAST-MODIFIED:20191030T202537Z
UID:4822-1572544800-1572552000@berkshistory.dreamhosters.com
SUMMARY:CANCELED: Berks History Halloween
DESCRIPTION:We are sorry to announce that this year’s Berks History Halloween Museum Open House and Trick-or-Treat event has been cancelled due to inclement weather. We apologize for the spook-tacular disappointment!  We wish you a Happy Halloween weekend.
URL:https://berkshistory.dreamhosters.com/event/berks-history-halloween-2/
LOCATION:Berks History Center\, 940 Centre Avenue\, Reading\, PA\, 19601\, United States
CATEGORIES:Special Events
ORGANIZER;CN="Berks History Center":MAILTO:elise@berkshistory.org
END:VEVENT
BEGIN:VEVENT
DTSTART;TZID=UTC:20191026T130000
DTEND;TZID=UTC:20191026T160000
DTSTAMP:20260421T133847
CREATED:20190320T204707Z
LAST-MODIFIED:20191015T235513Z
UID:4518-1572094800-1572105600@berkshistory.dreamhosters.com
SUMMARY:Hidden Treasures of the Oley Valley
DESCRIPTION:Explore the historic Reiff Farm and the newly renovated Hartman Farm on a special property tour\, including a visit to Berks County’s oldest tree\, the Sacred Oak\nRain or shine. A tasting of local Berks County foods will be provided including products from: \n\nAppeeling Fruit\nBerks Products Packing Company Inc.\nDieffenbach’s Potato Chips \nReppert’s Candy \nSunnyside Baker\nUnique Pretzels\n\nValley Milkhouse Cheese\nBerks Bakers Collective\n\n\nHayride will be available\, weather permitting. Tickets: $15/person. Children 10 and under free. Advance Purchase Required. \nOnline Tickets Now Available or Call 610-375-4375\n \nThe Reiff Farm is located at 495 Old State Road and the Hartman Farm is located at 3098 Friedensburg Rd. Parking and check-in will be available at both sites. If the weather is nice\, we encourage visitors to walk from from one property to the other. A hayride will be available to take visitors to and from the Reiff Farm to the Sacred Oak. There is a short walk from the Sacred Oak to the Hartman Farm home. Old State Road will be closed for this event between Apple Lane and Mast Road.
URL:https://berkshistory.dreamhosters.com/event/hiddentreasures/
LOCATION:PA
CATEGORIES:150th Anniversary,Special Events
ORGANIZER;CN="Berks History Center":MAILTO:elise@berkshistory.org
END:VEVENT
BEGIN:VEVENT
DTSTART;TZID=UTC:20191016T173000
DTEND;TZID=UTC:20191016T193000
DTSTAMP:20260421T133847
CREATED:20181222T220906Z
LAST-MODIFIED:20181222T220906Z
UID:4424-1571247000-1571254200@berkshistory.dreamhosters.com
SUMMARY:HJL Book Club - October 16
DESCRIPTION:Join the Club! Read\, learn and discuss fascinating historical books with other #berkshistorybuffs. You don’t need to be a member to join the discussion. Please bring a $5 donation and your dinner to enjoy!\nIn October we will be discussing: \nHillbilly Elegy: A Memoir of a Family and Culture in Crisis\, by J.D. Vance\nFee:  $5.00 donation to the Adopt-A-Collection Fund \nYou do not need to be a member of the Berks History Center to join the discussion. \nWe will provide beverages.  We kindly ask that you bring a brown bag dinner. \n  \nClick here for more information about the HJL Book Club
URL:https://berkshistory.dreamhosters.com/event/hjl-book-club-october-16/
LOCATION:Henry Janssen Library\, 160 Spring Street\, Reading\, PA\, 19601\, United States
CATEGORIES:Research Library Events
ORGANIZER;CN="Berks History Center":MAILTO:elise@berkshistory.org
END:VEVENT
BEGIN:VEVENT
DTSTART;TZID=UTC:20191013T170000
DTEND;TZID=UTC:20191013T200000
DTSTAMP:20260421T133847
CREATED:20190813T001729Z
LAST-MODIFIED:20190830T192110Z
UID:4702-1570986000-1570996800@berkshistory.dreamhosters.com
SUMMARY:SOLD OUT: Ghost Tour of Mt. Penn
DESCRIPTION:***THIS TOUR IS CURRENTLY SOLD OUT***\nJoin local historian\, Corrie Crupi-Zana\, on a ghostly bus tour of one of the spookiest areas in the county\, Spook Lane.\nPre-Payment Required. Call 610-375-4375 to register. Space limited. \n$5.00 members\, $8.00 non-members. (Price does not include bus driver tip)
URL:https://berkshistory.dreamhosters.com/event/ghost-tour-of-mt-penn/
LOCATION:PA
CATEGORIES:Special Events
ORGANIZER;CN="Berks History Center":MAILTO:elise@berkshistory.org
END:VEVENT
BEGIN:VEVENT
DTSTART;TZID=UTC:20191012T090000
DTEND;TZID=UTC:20191012T160000
DTSTAMP:20260421T133847
CREATED:20181213T210621Z
LAST-MODIFIED:20191011T221242Z
UID:4387-1570870800-1570896000@berkshistory.dreamhosters.com
SUMMARY:4 Centuries in Berks Historic Property Tour
DESCRIPTION:The Berks History Center is proud to celebrate architectural styles intrinsic to the county’s historical and contemporary culture. This year we will be exploring the architectural treasures of the borough of Wyomissing.\nAll proceeds will help support educational programs at the Berks History Center \nTickets: $35.00 per person (The tour is limited to age 12 and older) \n \nOnline Tickets Now Available! Other advance ticket sale locations:\nBerks History Center (610.375.4375)  940 Centre Ave. Reading \nWeaver’s Orchard (610.856.7300) 40 Fruit Lane\, Morgantown \nRiverview Nursery (610.929.5049) 3049 Pricetown Road\, Temple \nEsbenshade’s Garden Center (610.944.3000) 721 Park Road\, Fleetwood \nWyomissing Library (610.374.2385) 9 Reading Blvd.\, Wyomissing \nLori’s Candy Station (610.693.6441) 21 W. Penn Avenue\, Robesonia \nWyomissing Restaurant (610.373.3353) 1245 Penn Ave\, Wyomissing \nTickets will also be available the day of the tour at the Nicholas Stoltzfus Homestead\, located at 1700 Tulpehocken Road\, Wyomissing\, PA 19610\n\n\nPLEASE NOTE: This tour is moderately accessible. Not all properties on the tour are handicap accessible and there may be some walking involved to get from parking areas to the home at each site. Call 610-375-4375 for more information. \n\n4 Centuries in Berks Historic Property Tour is sponsored by:\n  \n \n        \n \n  \n  \n 
URL:https://berkshistory.dreamhosters.com/event/berks4centuries2019/
LOCATION:PA
CATEGORIES:Hikes & Walking Tours,Special Events
ORGANIZER;CN="Berks History Center":MAILTO:elise@berkshistory.org
END:VEVENT
BEGIN:VEVENT
DTSTART;TZID=UTC:20191003T110000
DTEND;TZID=UTC:20191003T140000
DTSTAMP:20260421T133847
CREATED:20190917T214844Z
LAST-MODIFIED:20190917T214909Z
UID:4808-1570100400-1570111200@berkshistory.dreamhosters.com
SUMMARY:Homeschool Day
DESCRIPTION:Learn & play at the BHC museum with special guided tours & hands-on student activities.\nReservations Required. Tour begins at 11am. Call 610-375-4375. Admission: $10 for parent and student with additional students costing $3.00 per child. \nCall Education Curator\, Vicky Heffner to reserve your space. Call 610-375-4375.
URL:https://berkshistory.dreamhosters.com/event/homeschool-day-2/
LOCATION:Berks History Center\, 940 Centre Avenue\, Reading\, PA\, 19601\, United States
CATEGORIES:Special Events
ORGANIZER;CN="Berks History Center":MAILTO:elise@berkshistory.org
END:VEVENT
BEGIN:VEVENT
DTSTART;TZID=UTC:20190929T090000
DTEND;TZID=UTC:20190929T160000
DTSTAMP:20260421T133847
CREATED:20190622T200830Z
LAST-MODIFIED:20190622T202729Z
UID:4655-1569747600-1569772800@berkshistory.dreamhosters.com
SUMMARY:Oley Valley Barn Tour: Part II
DESCRIPTION:Discover Hidden Barn Treasures in Historic Oley Valley with barn and house historian Greg Huber.\nNot only will Greg Huber enlighten us with his wealth of knowledge about barns while traveling throughout the Oley Valley but we will also tour the interior of several of the barns as well. Architectural features\, building methods and materials utilized will explain the transition from European building styles over hundreds of year to that of early North American Barns to Ground\, Sweitzer and Standard Barns that are familiar to all of us. Additional information will be given on how to date a barn as well as barn decorations and mystery marks. \nBooks will be available for purchase and a book signing will be offered during the tour. \nParticipants must have the ability to get on and off the bus repeatedly\, climb steps and walk short distances. \nBus departs the Weis Shopping Center located at Route 73 and Freidensburg Road\, Oley\, at 9 am and returns at approximately 4 pm. Transportation provided by Elite Coach (price does not include bus driver tip). Lunch will be a box lunch provided by Dori Martin’s Catering of Fleetwood\, and it will be eaten on the bus while traveling. \n$65 Members of the Berks History Center/$75 Non-Members of the Berks History Center \nClick here for more information or to register contact Vicky Heffner\, Education Curator\, at 610.375.4375 or education@berkshistory.org.
URL:https://berkshistory.dreamhosters.com/event/oley-valley-barn-tour-part-ii/
LOCATION:PA
CATEGORIES:Bus Trips
ORGANIZER;CN="Berks History Center":MAILTO:elise@berkshistory.org
END:VEVENT
BEGIN:VEVENT
DTSTART;TZID=UTC:20190925T180000
DTEND;TZID=UTC:20190925T230000
DTSTAMP:20260421T133847
CREATED:20190903T210024Z
LAST-MODIFIED:20190925T203940Z
UID:4793-1569434400-1569452400@berkshistory.dreamhosters.com
SUMMARY:Ugly Mug Party at Oakbrook Brewing Company
DESCRIPTION:History isn’t perfect and neither are these mugs!\nHelp us turn our printing blunder into a celebration. Join us for the official release party of Antiquity 150\, Berks History Center’s Special 150th Anniversary Beer brewed by Oakbrook Brewing Company\, and receive a free 150th Anniversary “Ugly Mug” at the door. \n18.oz Pours for $5.50 This Night Only! \nFamily Friendly Event. History Games and Contests for Kids and Adults Alike! \n\nOakbrook Brewing Company\n628 Park Ave\, Reading\, PA 19611
URL:https://berkshistory.dreamhosters.com/event/ugly-mug-party-at-oakbrook-brewing-company/
LOCATION:oakbrook brewing company\, 628 Park Ave\, Reading\, PA\, 19611
CATEGORIES:150th Anniversary,Special Events
ORGANIZER;CN="Berks History Center":MAILTO:elise@berkshistory.org
END:VEVENT
END:VCALENDAR